BEGIN:VCALENDAR
VERSION:2.0
PRODID:-//Copperfield - ECPv6.13.2.1//NONSGML v1.0//EN
CALSCALE:GREGORIAN
METHOD:PUBLISH
X-ORIGINAL-URL:https://copperfieldky.com
X-WR-CALDESC:Events for Copperfield
REFRESH-INTERVAL;VALUE=DURATION:PT1H
X-Robots-Tag:noindex
X-PUBLISHED-TTL:PT1H
BEGIN:VTIMEZONE
TZID:UTC
BEGIN:STANDARD
TZOFFSETFROM:+0000
TZOFFSETTO:+0000
TZNAME:UTC
DTSTART:20210101T000000
END:STANDARD
END:VTIMEZONE
BEGIN:VEVENT
DTSTART;TZID=UTC:20210913T190000
DTEND;TZID=UTC:20210913T200000
DTSTAMP:20260424T021502
CREATED:20210831T123714Z
LAST-MODIFIED:20210831T200525Z
UID:1249-1631559600-1631563200@copperfieldky.com
SUMMARY:September Monthly CHA Board Meeting
DESCRIPTION:Please join us for the monthly meeting of the Board of Directors at the Copperfield Clubhouse. \n\nAs is always the case\, any Copperfield resident is welcome.
URL:https://copperfieldky.com/event/hoa-board-meeting/
LOCATION:Copperfield Clubhouse\, 406 Wickfield Drive\, Louisville\, KY\, 40245\, United States
CATEGORIES:Board Meetings
END:VEVENT
BEGIN:VEVENT
DTSTART;TZID=UTC:20210412T190000
DTEND;TZID=UTC:20210412T200000
DTSTAMP:20260424T021502
CREATED:20210307T161242Z
LAST-MODIFIED:20210307T161557Z
UID:1119-1618254000-1618257600@copperfieldky.com
SUMMARY:April Monthly CHA Board Meeting
DESCRIPTION:Please join us for the monthly meeting of the Board of Directors at the Copperfield Clubhouse. \n\nAs is always the case\, any Copperfield resident is welcome.
URL:https://copperfieldky.com/event/april-monthly-cha-board-meeting/
LOCATION:Copperfield Clubhouse\, 406 Wickfield Drive\, Louisville\, KY\, 40245\, United States
CATEGORIES:Board Meetings
END:VEVENT
BEGIN:VEVENT
DTSTART;TZID=UTC:20210308T190000
DTEND;TZID=UTC:20210308T200000
DTSTAMP:20260424T021502
CREATED:20210307T070016Z
LAST-MODIFIED:20210307T161514Z
UID:1113-1615230000-1615233600@copperfieldky.com
SUMMARY:March Monthly CHA Board Meeting
DESCRIPTION:Please join us for the monthly meeting of the Board of Directors at the Copperfield Clubhouse. \n\nAs is always the case\, any Copperfield resident is welcome.
URL:https://copperfieldky.com/event/march-monthly-cha-board-meeting/
LOCATION:Copperfield Clubhouse\, 406 Wickfield Drive\, Louisville\, KY\, 40245\, United States
CATEGORIES:Board Meetings
END:VEVENT
END:VCALENDAR