BEGIN:VCALENDAR
VERSION:2.0
PRODID:-//Copperfield - ECPv6.13.2.1//NONSGML v1.0//EN
CALSCALE:GREGORIAN
METHOD:PUBLISH
X-ORIGINAL-URL:https://copperfieldky.com
X-WR-CALDESC:Events for Copperfield
REFRESH-INTERVAL;VALUE=DURATION:PT1H
X-Robots-Tag:noindex
X-PUBLISHED-TTL:PT1H
BEGIN:VTIMEZONE
TZID:UTC
BEGIN:STANDARD
TZOFFSETFROM:+0000
TZOFFSETTO:+0000
TZNAME:UTC
DTSTART:20210101T000000
END:STANDARD
END:VTIMEZONE
BEGIN:VEVENT
DTSTART;TZID=UTC:20240323T090000
DTEND;TZID=UTC:20240323T110000
DTSTAMP:20260423T205324
CREATED:20240213T152827Z
LAST-MODIFIED:20240213T152827Z
UID:1474-1711184400-1711191600@copperfieldky.com
SUMMARY:Easter Bunny Party
DESCRIPTION:
URL:https://copperfieldky.com/event/easter-bunny-party/
LOCATION:Copperfield Clubhouse\, 406 Wickfield Drive\, Louisville\, KY\, 40245\, United States
CATEGORIES:Holiday Celebrations
END:VEVENT
BEGIN:VEVENT
DTSTART;TZID=UTC:20211211T090000
DTEND;TZID=UTC:20211211T100000
DTSTAMP:20260423T205324
CREATED:20211109T155616Z
LAST-MODIFIED:20211109T155616Z
UID:1267-1639213200-1639216800@copperfieldky.com
SUMMARY:Santa Breakfast
DESCRIPTION:
URL:https://copperfieldky.com/event/santa-breakfast/
LOCATION:KY
CATEGORIES:Holiday Celebrations
END:VEVENT
BEGIN:VEVENT
DTSTART;TZID=UTC:20210704T150000
DTEND;TZID=UTC:20210704T230000
DTSTAMP:20260423T205324
CREATED:20210621T194014Z
LAST-MODIFIED:20210621T194014Z
UID:1229-1625410800-1625439600@copperfieldky.com
SUMMARY:Fourth of July Celebration and Parade
DESCRIPTION:
URL:https://copperfieldky.com/event/fourth-of-july-celebration-and-parade/
LOCATION:KY
CATEGORIES:Holiday Celebrations
END:VEVENT
END:VCALENDAR