BEGIN:VCALENDAR
VERSION:2.0
PRODID:-//Copperfield - ECPv6.13.2.1//NONSGML v1.0//EN
CALSCALE:GREGORIAN
METHOD:PUBLISH
X-ORIGINAL-URL:https://copperfieldky.com
X-WR-CALDESC:Events for Copperfield
REFRESH-INTERVAL;VALUE=DURATION:PT1H
X-Robots-Tag:noindex
X-PUBLISHED-TTL:PT1H
BEGIN:VTIMEZONE
TZID:UTC
BEGIN:STANDARD
TZOFFSETFROM:+0000
TZOFFSETTO:+0000
TZNAME:UTC
DTSTART:20210101T000000
END:STANDARD
END:VTIMEZONE
BEGIN:VEVENT
DTSTART;TZID=UTC:20210828T190000
DTEND;TZID=UTC:20210828T230000
DTSTAMP:20260424T020902
CREATED:20210616T192253Z
LAST-MODIFIED:20210810T015429Z
UID:1209-1630177200-1630191600@copperfieldky.com
SUMMARY:Adult Night
DESCRIPTION:The pool will close at 5:00 pm and then reopen at 7:00 for adults only who are attending the adult party.
URL:https://copperfieldky.com/event/adult-night/
CATEGORIES:Late Night Swim
END:VEVENT
BEGIN:VEVENT
DTSTART;TZID=UTC:20210730T170000
DTEND;TZID=UTC:20210730T230000
DTSTAMP:20260424T020902
CREATED:20210616T192213Z
LAST-MODIFIED:20210616T192213Z
UID:1207-1627664400-1627686000@copperfieldky.com
SUMMARY:Teen Night
DESCRIPTION:
URL:https://copperfieldky.com/event/teen-night/
CATEGORIES:Late Night Swim
END:VEVENT
BEGIN:VEVENT
DTSTART;TZID=UTC:20210724T000000
DTEND;TZID=UTC:20210724T000000
DTSTAMP:20260424T020902
CREATED:20210621T193146Z
LAST-MODIFIED:20210621T193146Z
UID:1219-1627084800-1627084800@copperfieldky.com
SUMMARY:Late Night Swim
DESCRIPTION:
URL:https://copperfieldky.com/event/late-night-swim-5/
CATEGORIES:Late Night Swim
END:VEVENT
BEGIN:VEVENT
DTSTART;TZID=UTC:20210716T000000
DTEND;TZID=UTC:20210716T000000
DTSTAMP:20260424T020902
CREATED:20210621T193058Z
LAST-MODIFIED:20210621T193058Z
UID:1217-1626393600-1626393600@copperfieldky.com
SUMMARY:Late Night Swim
DESCRIPTION:
URL:https://copperfieldky.com/event/late-night-swim-4/
CATEGORIES:Late Night Swim
END:VEVENT
BEGIN:VEVENT
DTSTART;TZID=UTC:20210704T000000
DTEND;TZID=UTC:20210704T000000
DTSTAMP:20260424T020902
CREATED:20210621T192814Z
LAST-MODIFIED:20210621T192814Z
UID:1213-1625356800-1625356800@copperfieldky.com
SUMMARY:Late Night Swim
DESCRIPTION:
URL:https://copperfieldky.com/event/late-night-swim-2/
CATEGORIES:Late Night Swim
END:VEVENT
BEGIN:VEVENT
DTSTART;TZID=UTC:20210703T000000
DTEND;TZID=UTC:20210703T000000
DTSTAMP:20260424T020902
CREATED:20210621T192743Z
LAST-MODIFIED:20210621T192743Z
UID:1211-1625270400-1625270400@copperfieldky.com
SUMMARY:Late Night Swim
DESCRIPTION:
URL:https://copperfieldky.com/event/late-night-swim/
CATEGORIES:Late Night Swim
END:VEVENT
END:VCALENDAR