BEGIN:VCALENDAR
VERSION:2.0
PRODID:-//Copperfield - ECPv6.13.2.1//NONSGML v1.0//EN
CALSCALE:GREGORIAN
METHOD:PUBLISH
X-ORIGINAL-URL:https://copperfieldky.com
X-WR-CALDESC:Events for Copperfield
REFRESH-INTERVAL;VALUE=DURATION:PT1H
X-Robots-Tag:noindex
X-PUBLISHED-TTL:PT1H
BEGIN:VTIMEZONE
TZID:UTC
BEGIN:STANDARD
TZOFFSETFROM:+0000
TZOFFSETTO:+0000
TZNAME:UTC
DTSTART:20210101T000000
END:STANDARD
END:VTIMEZONE
BEGIN:VEVENT
DTSTART;TZID=UTC:20210625T170000
DTEND;TZID=UTC:20210625T193000
DTSTAMP:20260423T230044
CREATED:20210528T222230Z
LAST-MODIFIED:20210528T222230Z
UID:1192-1624640400-1624649400@copperfieldky.com
SUMMARY:Cut to the Chase 502 Food Truck
DESCRIPTION:
URL:https://copperfieldky.com/event/cut-to-the-chase-502-food-truck-2/
CATEGORIES:Food Truck
END:VEVENT
BEGIN:VEVENT
DTSTART;TZID=UTC:20210615T190000
DTEND;TZID=UTC:20210615T200000
DTSTAMP:20260423T230044
CREATED:20210521T125637Z
LAST-MODIFIED:20210521T125637Z
UID:1188-1623783600-1623787200@copperfieldky.com
SUMMARY:June Monthly CHA Board Meeting
DESCRIPTION:Please join us for the monthly meeting of the Board of Directors at the Copperfield Clubhouse. It will be held on Tuesday in June in order to accommodate a swim meet on Monday\, June 14.\n\nAs is always the case\, any Copperfield resident is welcome.
URL:https://copperfieldky.com/event/june-monthly-cha-board-meeting/
LOCATION:Copperfield Clubhouse\, 406 Wickfield Drive\, Louisville\, KY\, 40245\, United States
END:VEVENT
BEGIN:VEVENT
DTSTART;TZID=UTC:20210615T170000
DTEND;TZID=UTC:20210615T190000
DTSTAMP:20260423T230044
CREATED:20210516T231232Z
LAST-MODIFIED:20210516T231232Z
UID:1183-1623776400-1623783600@copperfieldky.com
SUMMARY:Boo Boo Smoke Shack Food Truck
DESCRIPTION:
URL:https://copperfieldky.com/event/boo-boo-smoke-shack-food-truck/
CATEGORIES:Food Truck
END:VEVENT
BEGIN:VEVENT
DTSTART;TZID=UTC:20210611T170000
DTEND;TZID=UTC:20210611T190000
DTSTAMP:20260423T230044
CREATED:20210516T231601Z
LAST-MODIFIED:20210516T231601Z
UID:1185-1623430800-1623438000@copperfieldky.com
SUMMARY:The Celtic Pig Food Truck
DESCRIPTION:
URL:https://copperfieldky.com/event/the-celtic-pig-food-truck/
END:VEVENT
BEGIN:VEVENT
DTSTART;TZID=UTC:20210510T190000
DTEND;TZID=UTC:20210510T200000
DTSTAMP:20260423T230044
CREATED:20210307T161338Z
LAST-MODIFIED:20210307T161620Z
UID:1121-1620673200-1620676800@copperfieldky.com
SUMMARY:May Monthly CHA Board Meeting
DESCRIPTION:Please join us for the monthly meeting of the Board of Directors at the Copperfield Clubhouse. \n\nAs is always the case\, any Copperfield resident is welcome.
URL:https://copperfieldky.com/event/may-monthly-cha-board-meeting/
LOCATION:Copperfield Clubhouse\, 406 Wickfield Drive\, Louisville\, KY\, 40245\, United States
END:VEVENT
BEGIN:VEVENT
DTSTART;TZID=UTC:20210508T080000
DTEND;TZID=UTC:20210508T120000
DTSTAMP:20260423T230044
CREATED:20210311T002448Z
LAST-MODIFIED:20210311T002448Z
UID:1152-1620460800-1620475200@copperfieldky.com
SUMMARY:(Tentative) Neighborhood Yard Sale
DESCRIPTION:
URL:https://copperfieldky.com/event/tentative-neighborhood-yard-sale/
CATEGORIES:Other
END:VEVENT
BEGIN:VEVENT
DTSTART;TZID=UTC:20210507T170000
DTEND;TZID=UTC:20210507T193000
DTSTAMP:20260423T230044
CREATED:20210311T001113Z
LAST-MODIFIED:20210311T001113Z
UID:1147-1620406800-1620415800@copperfieldky.com
SUMMARY:Burger Joint Food Truck
DESCRIPTION:
URL:https://copperfieldky.com/event/burger-joint-food-truck/
CATEGORIES:Food Truck
END:VEVENT
BEGIN:VEVENT
DTSTART;TZID=UTC:20210423T160000
DTEND;TZID=UTC:20210423T190000
DTSTAMP:20260423T230044
CREATED:20210311T001021Z
LAST-MODIFIED:20210311T001021Z
UID:1145-1619193600-1619204400@copperfieldky.com
SUMMARY:Bamba Egg Roll Company Food Truck
DESCRIPTION:
URL:https://copperfieldky.com/event/bamba-egg-roll-company-food-truck/
CATEGORIES:Food Truck
END:VEVENT
BEGIN:VEVENT
DTSTART;TZID=UTC:20210419T130000
DTEND;TZID=UTC:20210419T143000
DTSTAMP:20260423T230044
CREATED:20210321T201322Z
LAST-MODIFIED:20210321T201322Z
UID:1156-1618837200-1618842600@copperfieldky.com
SUMMARY:Adult Pickleball Clinic
DESCRIPTION:
URL:https://copperfieldky.com/event/adult-pickleball-clinic/
LOCATION:Copperfield Clubhouse\, 406 Wickfield Drive\, Louisville\, KY\, 40245\, United States
CATEGORIES:Other
END:VEVENT
BEGIN:VEVENT
DTSTART;TZID=UTC:20210412T190000
DTEND;TZID=UTC:20210412T200000
DTSTAMP:20260423T230044
CREATED:20210307T161242Z
LAST-MODIFIED:20210307T161557Z
UID:1119-1618254000-1618257600@copperfieldky.com
SUMMARY:April Monthly CHA Board Meeting
DESCRIPTION:Please join us for the monthly meeting of the Board of Directors at the Copperfield Clubhouse. \n\nAs is always the case\, any Copperfield resident is welcome.
URL:https://copperfieldky.com/event/april-monthly-cha-board-meeting/
LOCATION:Copperfield Clubhouse\, 406 Wickfield Drive\, Louisville\, KY\, 40245\, United States
CATEGORIES:Board Meetings
END:VEVENT
BEGIN:VEVENT
DTSTART;TZID=UTC:20210410T170000
DTEND;TZID=UTC:20210410T190000
DTSTAMP:20260423T230044
CREATED:20210311T000855Z
LAST-MODIFIED:20210311T000855Z
UID:1143-1618074000-1618081200@copperfieldky.com
SUMMARY:Casa De Mia Food Truck
DESCRIPTION:
URL:https://copperfieldky.com/event/casa-de-mia-food-truck/
CATEGORIES:Food Truck
END:VEVENT
BEGIN:VEVENT
DTSTART;TZID=UTC:20210409T130000
DTEND;TZID=UTC:20210409T143000
DTSTAMP:20260423T230044
CREATED:20210321T201231Z
LAST-MODIFIED:20210321T201231Z
UID:1154-1617973200-1617978600@copperfieldky.com
SUMMARY:Senior Adult Pickleball Clinic
DESCRIPTION:
URL:https://copperfieldky.com/event/senior-adult-pickleball-clinic/
LOCATION:Copperfield Clubhouse\, 406 Wickfield Drive\, Louisville\, KY\, 40245\, United States
CATEGORIES:Other
END:VEVENT
BEGIN:VEVENT
DTSTART;TZID=UTC:20210326T170000
DTEND;TZID=UTC:20210326T193000
DTSTAMP:20260423T230044
CREATED:20210310T231124Z
LAST-MODIFIED:20210310T231124Z
UID:1141-1616778000-1616787000@copperfieldky.com
SUMMARY:Lil Cheezers Food Truck
DESCRIPTION:
URL:https://copperfieldky.com/event/lil-cheezers-food-truck/
LOCATION:Copperfield Clubhouse\, 406 Wickfield Drive\, Louisville\, KY\, 40245\, United States
CATEGORIES:Food Truck
END:VEVENT
BEGIN:VEVENT
DTSTART;TZID=UTC:20210320T160000
DTEND;TZID=UTC:20210320T170000
DTSTAMP:20260423T230044
CREATED:20210307T163333Z
LAST-MODIFIED:20210307T163333Z
UID:1127-1616256000-1616259600@copperfieldky.com
SUMMARY:Door Hanger Craft
DESCRIPTION:Join us for an afternoon of neighborly crafting! We will meet at The Cottage at Walnut Grove and complete the door hanger with interchangeables. The cost for each Copperfield resident is $25. Please email Kathleen if you would like to participate. \nWe have limited spots so let Kathleen know asap.
URL:https://copperfieldky.com/event/door-hanger-craft/
LOCATION:The Cottage at Walnut Grove\, 16200 Eastwood Cut Off Rd\, Louisville\, KY\, 40245\, United States
END:VEVENT
BEGIN:VEVENT
DTSTART;TZID=UTC:20210319T170000
DTEND;TZID=UTC:20210319T193000
DTSTAMP:20260423T230044
CREATED:20210309T021513Z
LAST-MODIFIED:20210309T021513Z
UID:1139-1616173200-1616182200@copperfieldky.com
SUMMARY:Cut To The Chase 502 Food Truck
DESCRIPTION:
URL:https://copperfieldky.com/event/cut-to-the-chase-502-food-truck/
LOCATION:Copperfield Clubhouse\, 406 Wickfield Drive\, Louisville\, KY\, 40245\, United States
CATEGORIES:Food Truck
END:VEVENT
BEGIN:VEVENT
DTSTART;TZID=UTC:20210313T100000
DTEND;TZID=UTC:20210313T110000
DTSTAMP:20260423T230044
CREATED:20210307T162255Z
LAST-MODIFIED:20210307T162255Z
UID:1123-1615629600-1615633200@copperfieldky.com
SUMMARY:Easter Bunny Visit
DESCRIPTION:Join us at the clubhouse to visit the Easter Bunny in a safe manner. The Easter Bunny will sit on the porch and you can visit with the Easter Bunny on the steps. Talk to him/her and take some pics. \nEmail Kathleen with your family name and how many children will attend so we have enough goodies for the kids! \nCopperfield residents only please!
URL:https://copperfieldky.com/event/easter-bunny-visit/
LOCATION:Copperfield Clubhouse\, 406 Wickfield Drive\, Louisville\, KY\, 40245\, United States
END:VEVENT
BEGIN:VEVENT
DTSTART;TZID=UTC:20210308T190000
DTEND;TZID=UTC:20210308T200000
DTSTAMP:20260423T230044
CREATED:20210307T070016Z
LAST-MODIFIED:20210307T161514Z
UID:1113-1615230000-1615233600@copperfieldky.com
SUMMARY:March Monthly CHA Board Meeting
DESCRIPTION:Please join us for the monthly meeting of the Board of Directors at the Copperfield Clubhouse. \n\nAs is always the case\, any Copperfield resident is welcome.
URL:https://copperfieldky.com/event/march-monthly-cha-board-meeting/
LOCATION:Copperfield Clubhouse\, 406 Wickfield Drive\, Louisville\, KY\, 40245\, United States
CATEGORIES:Board Meetings
END:VEVENT
END:VCALENDAR